Workbook

Sheet Sheet1
A1: 职业技能等级认定成绩汇总表
A2: 南京机电职业技术学院 职业：计算机程序设计员 评价计划批次号：2026-32011812-00014
A3: 序号 | B3: 准考证号 | C3: 姓名 | D3: 等级 | E3: 理论成绩 | F3: 实操成绩
A4: 1 | B4: 3201181226060200001 | C4: 嵇映闻 | D4: 中级 | E4: =VLOOKUP(C4,[1]单科成绩!$D$2:$G$94,4,FALSE) -> 69 | F4: 78
A5: 2 | B5: 3201181226060200002 | C5: 毕宗意 | D5: 中级 | E5: =VLOOKUP(C5,[1]单科成绩!$D$2:$G$94,4,FALSE) -> 78 | F5: 62
A6: 3 | B6: 3201181226060200003 | C6: 车宇轩 | D6: 中级 | E6: =VLOOKUP(C6,[1]单科成绩!$D$2:$G$94,4,FALSE) -> 95 | F6: 65
A7: 4 | B7: 3201181226060200004 | C7: 费俊杰 | D7: 中级 | E7: =VLOOKUP(C7,[1]单科成绩!$D$2:$G$94,4,FALSE) -> 64 | F7: 74
A8: 5 | B8: 3201181226060200005 | C8: 高露 | D8: 中级 | E8: =VLOOKUP(C8,[1]单科成绩!$D$2:$G$94,4,FALSE) -> 100 | F8: 67
A9: 6 | B9: 3201181226060200006 | C9: 黄可 | D9: 中级 | E9: =VLOOKUP(C9,[1]单科成绩!$D$2:$G$94,4,FALSE) -> 84 | F9: 73
A10: 7 | B10: 3201181226060200007 | C10: 纪志欣 | D10: 中级 | E10: =VLOOKUP(C10,[1]单科成绩!$D$2:$G$94,4,FALSE) -> 70 | F10: 65
A11: 8 | B11: 3201181226060200008 | C11: 姜旋 | D11: 中级 | E11: =VLOOKUP(C11,[1]单科成绩!$D$2:$G$94,4,FALSE) -> 84 | F11: 64
A12: 9 | B12: 3201181226060200009 | C12: 李欢 | D12: 中级 | E12: =VLOOKUP(C12,[1]单科成绩!$D$2:$G$94,4,FALSE) -> 83 | F12: 69
A13: 10 | B13: 3201181226060200010 | C13: 李清华 | D13: 中级 | E13: =VLOOKUP(C13,[1]单科成绩!$D$2:$G$94,4,FALSE) -> 48 | F13: 83
A14: 11 | B14: 3201181226060200011 | C14: 李宇晨 | D14: 中级 | E14: =VLOOKUP(C14,[1]单科成绩!$D$2:$G$94,4,FALSE) -> 94 | F14: 64
A15: 12 | B15: 3201181226060200012 | C15: 李中卢 | D15: 中级 | E15: =VLOOKUP(C15,[1]单科成绩!$D$2:$G$94,4,FALSE) -> 92 | F15: 64
... A96: 93 | B96: 3201181226060200093 | C96: 刘苏鹏 | D96: 中级 | E96: =VLOOKUP(C96,[1]单科成绩!$D$2:$G$94,4,FALSE) -> 57 | F96: 92
A98: 登分人： 核分人： 考评员： 内部督导人员：
A99: 备注：如理论或实操考试形式为机考，无需填写相应成绩，但需提供原始数据表格，原始数据表格由相关操作人员签字。
